BEGIN:VCALENDAR
PRODID:-//Ben Fortuna//iCal4j 1.0//EN
VERSION:2.0
CALSCALE:GREGORIAN
BEGIN:VTIMEZONE
TZID:Europe/Berlin
LAST-MODIFIED:20201010T011803Z
TZURL:http://tzurl.org/zoneinfo/Europe/Berlin
X-LIC-LOCATION:Europe/Berlin
X-PROLEPTIC-TZNAME:LMT
BEGIN:STANDARD
TZNAME:CET
TZOFFSETFROM:+005328
TZOFFSETTO:+0100
DTSTART:18930401T000000
END:STANDARD
BEGIN:DAYLIGHT
TZNAME:CEST
TZOFFSETFROM:+0100
TZOFFSETTO:+0200
DTSTART:19160430T230000
RDATE:19400401T020000
RDATE:19430329T020000
RDATE:19460414T020000
RDATE:19470406T030000
RDATE:19480418T020000
RDATE:19490410T020000
RDATE:19800406T020000
END:DAYLIGHT
BEGIN:STANDARD
TZNAME:CET
TZOFFSETFROM:+0200
TZOFFSETTO:+0100
DTSTART:19161001T010000
RDATE:19421102T030000
RDATE:19431004T030000
RDATE:19441002T030000
RDATE:19451118T030000
RDATE:19461007T030000
END:STANDARD
BEGIN:DAYLIGHT
TZNAME:CEST
TZOFFSETFROM:+0100
TZOFFSETTO:+0200
DTSTART:19170416T020000
RRULE:FREQ=YEARLY;UNTIL=19180415T010000Z;BYMONTH=4;BYDAY=3MO
END:DAYLIGHT
BEGIN:STANDARD
TZNAME:CET
TZOFFSETFROM:+0200
TZOFFSETTO:+0100
DTSTART:19170917T030000
RRULE:FREQ=YEARLY;UNTIL=19180916T010000Z;BYMONTH=9;BYDAY=3MO
END:STANDARD
BEGIN:DAYLIGHT
TZNAME:CEST
TZOFFSETFROM:+0100
TZOFFSETTO:+0200
DTSTART:19440403T020000
RRULE:FREQ=YEARLY;UNTIL=19450402T010000Z;BYMONTH=4;BYDAY=1MO
END:DAYLIGHT
BEGIN:DAYLIGHT
TZNAME:CEMT
TZOFFSETFROM:+0200
TZOFFSETTO:+0300
DTSTART:19450524T020000
RDATE:19470511T030000
END:DAYLIGHT
BEGIN:DAYLIGHT
TZNAME:CEST
TZOFFSETFROM:+0300
TZOFFSETTO:+0200
DTSTART:19450924T030000
RDATE:19470629T030000
END:DAYLIGHT
BEGIN:STANDARD
TZNAME:CET
TZOFFSETFROM:+0100
TZOFFSETTO:+0100
DTSTART:19460101T000000
RDATE:19800101T000000
END:STANDARD
BEGIN:STANDARD
TZNAME:CET
TZOFFSETFROM:+0200
TZOFFSETTO:+0100
DTSTART:19471005T030000
RRULE:FREQ=YEARLY;UNTIL=19491002T010000Z;BYMONTH=10;BYDAY=1SU
END:STANDARD
BEGIN:STANDARD
TZNAME:CET
TZOFFSETFROM:+0200
TZOFFSETTO:+0100
DTSTART:19800928T030000
RRULE:FREQ=YEARLY;UNTIL=19950924T010000Z;BYMONTH=9;BYDAY=-1SU
END:STANDARD
BEGIN:DAYLIGHT
TZNAME:CEST
TZOFFSETFROM:+0100
TZOFFSETTO:+0200
DTSTART:19810329T020000
RRULE:FREQ=YEARLY;BYMONTH=3;BYDAY=-1SU
END:DAYLIGHT
BEGIN:STANDARD
TZNAME:CET
TZOFFSETFROM:+0200
TZOFFSETTO:+0100
DTSTART:19961027T030000
RRULE:FREQ=YEARLY;BYMONTH=10;BYDAY=-1SU
END:STANDARD
END:VTIMEZONE
BEGIN:VEVENT
DTSTAMP:20260422T155106Z
DTSTART;TZID=Europe/Berlin:20260713T100000
DTEND;TZID=Europe/Berlin:20260713T130000
SUMMARY:Lesesommer-Workshop: Geschichten aus Steinen - Bauen mit Lego- un
 d Duplosteinen für Kinder mit abgeschlossener 1. Klasse
CREATED:20260331T090852Z
LAST-MODIFIED:20260420T090640Z
DESCRIPTION:Egal ob Burg\, Wiese oder Zoo\, gemeinsam wollen wir Schauplä
 tze aus euren Lieblingsbüchern bauen. Viele Lego- und Duplosteine stehen
  dafür zur Verfügung. Und mit ein bisschen Papier\, Stoff\, Zahnstochern
  und anderen Materialien werden aus Legofiguren Abenteurer\, Raumfahreri
 nnen\, Forscher und Alltagsheldinnen\, die anschließend im Schaufenster 
 bewundert werden können.\n\n\n\n\nMit der Teilnahme können die Kinder ei
 nen Stempel für ihre Lesesommer-Karte erwerben.\n\n\n\n\nEintritt frei. 
 Einfach hier anmelden.
LOCATION:Stadtbücherei
X-LOCATION-NAME:Stadtbücherei
X-STREET-ADDRESS:Welschgasse 11
X-POSTAL-CODE:67227
X-LOCALITY:Frankenthal
ORGANIZER;CN="Stadtbücherei Frankenthal":mailto:stadtbuecherei@frankentha
 l.de
X-ORGANIZER-NAME:Stadtbücherei Frankenthal
X-ORGANIZER-EMAIL:stadtbuecherei@frankenthal.de
X-ORGANIZER-TELEPHONE:06233 89630
X-ORGANIZER-WEBSITE:https://www.frankenthal.de/stadt-frankenthal/de/theme
 n/bildung/stadtbuecherei/
X-IONAS-CATEGORY:Stadtbücherei
CATEGORIES:Stadtbücherei,Kinder,Workshop,Lego,Duplo,Lesesommer,Spielen
ATTACH;X-COPYRIGHT="Stadtbücherei Frankenthal":https://www.frankenthal.de
 /bilder/gebaeude-orte-institutionen/stadtbuecherei/veranstaltungen/08-22
 -bauen-mit-lego-web.jpeg?cid=10pm.a4aj
UID:658bbb87-790d-44b5-9843-b76e368867d4
END:VEVENT
END:VCALENDAR
