BEGIN:VCALENDAR
PRODID:-//Ben Fortuna//iCal4j 1.0//EN
VERSION:2.0
CALSCALE:GREGORIAN
BEGIN:VTIMEZONE
TZID:Europe/Berlin
LAST-MODIFIED:20201010T011803Z
TZURL:http://tzurl.org/zoneinfo/Europe/Berlin
X-LIC-LOCATION:Europe/Berlin
X-PROLEPTIC-TZNAME:LMT
BEGIN:STANDARD
TZNAME:CET
TZOFFSETFROM:+005328
TZOFFSETTO:+0100
DTSTART:18930401T000000
END:STANDARD
BEGIN:DAYLIGHT
TZNAME:CEST
TZOFFSETFROM:+0100
TZOFFSETTO:+0200
DTSTART:19160430T230000
RDATE:19400401T020000
RDATE:19430329T020000
RDATE:19460414T020000
RDATE:19470406T030000
RDATE:19480418T020000
RDATE:19490410T020000
RDATE:19800406T020000
END:DAYLIGHT
BEGIN:STANDARD
TZNAME:CET
TZOFFSETFROM:+0200
TZOFFSETTO:+0100
DTSTART:19161001T010000
RDATE:19421102T030000
RDATE:19431004T030000
RDATE:19441002T030000
RDATE:19451118T030000
RDATE:19461007T030000
END:STANDARD
BEGIN:DAYLIGHT
TZNAME:CEST
TZOFFSETFROM:+0100
TZOFFSETTO:+0200
DTSTART:19170416T020000
RRULE:FREQ=YEARLY;UNTIL=19180415T010000Z;BYMONTH=4;BYDAY=3MO
END:DAYLIGHT
BEGIN:STANDARD
TZNAME:CET
TZOFFSETFROM:+0200
TZOFFSETTO:+0100
DTSTART:19170917T030000
RRULE:FREQ=YEARLY;UNTIL=19180916T010000Z;BYMONTH=9;BYDAY=3MO
END:STANDARD
BEGIN:DAYLIGHT
TZNAME:CEST
TZOFFSETFROM:+0100
TZOFFSETTO:+0200
DTSTART:19440403T020000
RRULE:FREQ=YEARLY;UNTIL=19450402T010000Z;BYMONTH=4;BYDAY=1MO
END:DAYLIGHT
BEGIN:DAYLIGHT
TZNAME:CEMT
TZOFFSETFROM:+0200
TZOFFSETTO:+0300
DTSTART:19450524T020000
RDATE:19470511T030000
END:DAYLIGHT
BEGIN:DAYLIGHT
TZNAME:CEST
TZOFFSETFROM:+0300
TZOFFSETTO:+0200
DTSTART:19450924T030000
RDATE:19470629T030000
END:DAYLIGHT
BEGIN:STANDARD
TZNAME:CET
TZOFFSETFROM:+0100
TZOFFSETTO:+0100
DTSTART:19460101T000000
RDATE:19800101T000000
END:STANDARD
BEGIN:STANDARD
TZNAME:CET
TZOFFSETFROM:+0200
TZOFFSETTO:+0100
DTSTART:19471005T030000
RRULE:FREQ=YEARLY;UNTIL=19491002T010000Z;BYMONTH=10;BYDAY=1SU
END:STANDARD
BEGIN:STANDARD
TZNAME:CET
TZOFFSETFROM:+0200
TZOFFSETTO:+0100
DTSTART:19800928T030000
RRULE:FREQ=YEARLY;UNTIL=19950924T010000Z;BYMONTH=9;BYDAY=-1SU
END:STANDARD
BEGIN:DAYLIGHT
TZNAME:CEST
TZOFFSETFROM:+0100
TZOFFSETTO:+0200
DTSTART:19810329T020000
RRULE:FREQ=YEARLY;BYMONTH=3;BYDAY=-1SU
END:DAYLIGHT
BEGIN:STANDARD
TZNAME:CET
TZOFFSETFROM:+0200
TZOFFSETTO:+0100
DTSTART:19961027T030000
RRULE:FREQ=YEARLY;BYMONTH=10;BYDAY=-1SU
END:STANDARD
END:VTIMEZONE
BEGIN:VEVENT
DTSTAMP:20260422T154832Z
DTSTART;TZID=Europe/Berlin:20260619T153000
DTEND;TZID=Europe/Berlin:20260619T163000
SUMMARY:Vorlese-Picknick für Familien mit Kindern im Vorlesealter
CREATED:20260331T085022Z
LAST-MODIFIED:20260420T091255Z
DESCRIPTION:in der Willy-Brandt-Anlage\n\n\n\n\nIm Rahmen des Vorlese- un
 d Lesesommers Rheinland-Pfalz treffen sich Familien im Grünen\, um gemei
 nsam zu lesen. Die Stadtbücherei stellt hierfür rund um Lastenrad Franki
  aktuelle Kinderliteratur zur Auswahl. Lustige\, spannende und berührend
 e Bilderbücher können auf der eigenen Picknickdecke vorgelesen werden. N
 atürlich dürfen auch eigene Lieblingsbücher mitgebracht werden.\n\n \n\n
 Wer möchte\, darf direkt vor Ort die Anmeldung zum Vorlesesommer ausfüll
 en\, ein Bild zum vorgelesenen Buch malen und sich sofort den ersten Ste
 mpel im Clubausweis abholen. Stifte und Papier stellt die Bücherei zur V
 erfügung.\n\nWir laden alle Interessierten ein\, einen sonnigen Nachmitt
 ag mit der ganzen Familie im Grünen zu verbringen und gemeinsam das Lese
 n und vor allem die Vorlesenden zu feiern. Egal ob Geschwisterkinder\, E
 ltern\, Großeltern\, Tanten\, Onkel – jeder Vorlesende öffnet Türen in B
 ücherwelten und ebnet Kindern den Weg zum Selberlesen. \n\n \n\nTeilnehm
 ende bringen bitte eine Picknick-Decke und Snacks zum eigenen Verzehr mi
 t. Treffpunkt ist die zentrale Wiese in der Willy-Brandt-Anlage. Bei Reg
 en entfällt die Veranstaltung.\n\n \n\nDer Vorlesesommer Rheinland-Pfalz
  ist eine Aktion unter der Schirmherrschaft des Ministeriums für Familie
 \, Frauen\, Kultur und Integration Rheinland-Pfalz. Allen Teilnehmenden 
 winken tolle Preise.\n\n \n\nEintritt frei. Einfach hier anmelden. 
LOCATION:Willy-Brandt-Anlage
X-LOCATION-NAME:Willy-Brandt-Anlage
X-STREET-ADDRESS:Carl-Theodor-Straße 9 
X-POSTAL-CODE:67227
X-LOCALITY:Frankenthal 
ORGANIZER;CN="Stadtbücherei":mailto:stadtbuecherei@frankenthal.de
X-ORGANIZER-NAME:Stadtbücherei
X-ORGANIZER-EMAIL:stadtbuecherei@frankenthal.de
X-ORGANIZER-TELEPHONE:06233 89 630
X-ORGANIZER-WEBSITE:https://www.frankenthal.de/stadtbuecherei/
X-IONAS-CATEGORY:Stadtbücherei
CATEGORIES:Stadtbücherei,Sprachförderung,Spielen,Vorlesen,Eltern und Kind
 ,Kinder,Vorlesesommer
ATTACH;X-COPYRIGHT="Stadtbücherei Frankenthal":https://www.frankenthal.de
 /bilder/gebaeude-orte-institutionen/stadtbuecherei/veranstaltungen/lesep
 icknick-small.jpeg?cid=2lss.10y7m
UID:48faf16b-a60a-4daf-b6fb-08c4bfffc5b4
END:VEVENT
END:VCALENDAR
