BEGIN:VCALENDAR
PRODID:-//Ben Fortuna//iCal4j 1.0//EN
VERSION:2.0
CALSCALE:GREGORIAN
BEGIN:VTIMEZONE
TZID:Europe/Berlin
LAST-MODIFIED:20201010T011803Z
TZURL:http://tzurl.org/zoneinfo/Europe/Berlin
X-LIC-LOCATION:Europe/Berlin
X-PROLEPTIC-TZNAME:LMT
BEGIN:STANDARD
TZNAME:CET
TZOFFSETFROM:+005328
TZOFFSETTO:+0100
DTSTART:18930401T000000
END:STANDARD
BEGIN:DAYLIGHT
TZNAME:CEST
TZOFFSETFROM:+0100
TZOFFSETTO:+0200
DTSTART:19160430T230000
RDATE:19400401T020000
RDATE:19430329T020000
RDATE:19460414T020000
RDATE:19470406T030000
RDATE:19480418T020000
RDATE:19490410T020000
RDATE:19800406T020000
END:DAYLIGHT
BEGIN:STANDARD
TZNAME:CET
TZOFFSETFROM:+0200
TZOFFSETTO:+0100
DTSTART:19161001T010000
RDATE:19421102T030000
RDATE:19431004T030000
RDATE:19441002T030000
RDATE:19451118T030000
RDATE:19461007T030000
END:STANDARD
BEGIN:DAYLIGHT
TZNAME:CEST
TZOFFSETFROM:+0100
TZOFFSETTO:+0200
DTSTART:19170416T020000
RRULE:FREQ=YEARLY;UNTIL=19180415T010000Z;BYMONTH=4;BYDAY=3MO
END:DAYLIGHT
BEGIN:STANDARD
TZNAME:CET
TZOFFSETFROM:+0200
TZOFFSETTO:+0100
DTSTART:19170917T030000
RRULE:FREQ=YEARLY;UNTIL=19180916T010000Z;BYMONTH=9;BYDAY=3MO
END:STANDARD
BEGIN:DAYLIGHT
TZNAME:CEST
TZOFFSETFROM:+0100
TZOFFSETTO:+0200
DTSTART:19440403T020000
RRULE:FREQ=YEARLY;UNTIL=19450402T010000Z;BYMONTH=4;BYDAY=1MO
END:DAYLIGHT
BEGIN:DAYLIGHT
TZNAME:CEMT
TZOFFSETFROM:+0200
TZOFFSETTO:+0300
DTSTART:19450524T020000
RDATE:19470511T030000
END:DAYLIGHT
BEGIN:DAYLIGHT
TZNAME:CEST
TZOFFSETFROM:+0300
TZOFFSETTO:+0200
DTSTART:19450924T030000
RDATE:19470629T030000
END:DAYLIGHT
BEGIN:STANDARD
TZNAME:CET
TZOFFSETFROM:+0100
TZOFFSETTO:+0100
DTSTART:19460101T000000
RDATE:19800101T000000
END:STANDARD
BEGIN:STANDARD
TZNAME:CET
TZOFFSETFROM:+0200
TZOFFSETTO:+0100
DTSTART:19471005T030000
RRULE:FREQ=YEARLY;UNTIL=19491002T010000Z;BYMONTH=10;BYDAY=1SU
END:STANDARD
BEGIN:STANDARD
TZNAME:CET
TZOFFSETFROM:+0200
TZOFFSETTO:+0100
DTSTART:19800928T030000
RRULE:FREQ=YEARLY;UNTIL=19950924T010000Z;BYMONTH=9;BYDAY=-1SU
END:STANDARD
BEGIN:DAYLIGHT
TZNAME:CEST
TZOFFSETFROM:+0100
TZOFFSETTO:+0200
DTSTART:19810329T020000
RRULE:FREQ=YEARLY;BYMONTH=3;BYDAY=-1SU
END:DAYLIGHT
BEGIN:STANDARD
TZNAME:CET
TZOFFSETFROM:+0200
TZOFFSETTO:+0100
DTSTART:19961027T030000
RRULE:FREQ=YEARLY;BYMONTH=10;BYDAY=-1SU
END:STANDARD
END:VTIMEZONE
BEGIN:VEVENT
DTSTAMP:20260422T154215Z
DTSTART;TZID=Europe/Berlin:20260722T150000
DTEND;TZID=Europe/Berlin:20260722T180000
SUMMARY:Lesesommer-Workshop: Dein Soundtrack zum Buch
CREATED:20260417T133003Z
LAST-MODIFIED:20260421T071811Z
DESCRIPTION:Für Jugendliche ab 12 Jahren\n\n\n\n\nStell dir vor dein Lieb
 lingsbuch wird verfilmt: Was wäre der passende Soundtrack? Oder hast du 
 vielleicht schon eine tolle Melodie im Kopf\, wenn du an dein Buch denks
 t?\n\nTontechniker Mike Anderson zeigt die Grundlagen\, um eigene Sounds
  digital zu komponieren. So sollen kurze Musikstücke passend zu euren Bü
 chern entstehen. Keine Angst ihr müsst dafür keine Vorkenntnisse haben o
 der Instrumente spielen können!\n\n\n\n\nWir sind gespannt\, auf eure Kr
 eationen!\n\n \n\nEintritt frei. Mit Anmeldung.
LOCATION:Stadtbücherei
X-LOCATION-NAME:Stadtbücherei
X-STREET-ADDRESS:Welschgasse 11
X-POSTAL-CODE:67227
X-LOCALITY:Frankenthal
ORGANIZER;CN="Stadtbücherei":mailto:stadtbuecherei@frankenthal.de
X-ORGANIZER-NAME:Stadtbücherei
X-ORGANIZER-EMAIL:stadtbuecherei@frankenthal.de
X-ORGANIZER-TELEPHONE:06233 89 630
X-ORGANIZER-WEBSITE:https://www.frankenthal.de/stadtbuecherei/
X-IONAS-CATEGORY:Stadtbücherei
CATEGORIES:Stadtbücherei,Jugendliche,Leseförderung,Lesesommer,Musik
ATTACH;FMTTYPE=image/jpeg;X-COPYRIGHT="Stadtbücherei Frankenthal":https:/
 /www.frankenthal.de/bilder/gebaeude-orte-institutionen/stadtbuecherei/ve
 ranstaltungen/lesesommerworkshop-soundtrack-zum-buch.jpg?cid=2mjs.11bgm
UID:c138c390-4fae-4132-8f66-faa4570e04c8
END:VEVENT
END:VCALENDAR
