BEGIN:VCALENDAR
PRODID:-//Ben Fortuna//iCal4j 1.0//EN
VERSION:2.0
CALSCALE:GREGORIAN
BEGIN:VTIMEZONE
TZID:Europe/Berlin
LAST-MODIFIED:20201010T011803Z
TZURL:http://tzurl.org/zoneinfo/Europe/Berlin
X-LIC-LOCATION:Europe/Berlin
X-PROLEPTIC-TZNAME:LMT
BEGIN:STANDARD
TZNAME:CET
TZOFFSETFROM:+005328
TZOFFSETTO:+0100
DTSTART:18930401T000000
END:STANDARD
BEGIN:DAYLIGHT
TZNAME:CEST
TZOFFSETFROM:+0100
TZOFFSETTO:+0200
DTSTART:19160430T230000
RDATE:19400401T020000
RDATE:19430329T020000
RDATE:19460414T020000
RDATE:19470406T030000
RDATE:19480418T020000
RDATE:19490410T020000
RDATE:19800406T020000
END:DAYLIGHT
BEGIN:STANDARD
TZNAME:CET
TZOFFSETFROM:+0200
TZOFFSETTO:+0100
DTSTART:19161001T010000
RDATE:19421102T030000
RDATE:19431004T030000
RDATE:19441002T030000
RDATE:19451118T030000
RDATE:19461007T030000
END:STANDARD
BEGIN:DAYLIGHT
TZNAME:CEST
TZOFFSETFROM:+0100
TZOFFSETTO:+0200
DTSTART:19170416T020000
RRULE:FREQ=YEARLY;UNTIL=19180415T010000Z;BYMONTH=4;BYDAY=3MO
END:DAYLIGHT
BEGIN:STANDARD
TZNAME:CET
TZOFFSETFROM:+0200
TZOFFSETTO:+0100
DTSTART:19170917T030000
RRULE:FREQ=YEARLY;UNTIL=19180916T010000Z;BYMONTH=9;BYDAY=3MO
END:STANDARD
BEGIN:DAYLIGHT
TZNAME:CEST
TZOFFSETFROM:+0100
TZOFFSETTO:+0200
DTSTART:19440403T020000
RRULE:FREQ=YEARLY;UNTIL=19450402T010000Z;BYMONTH=4;BYDAY=1MO
END:DAYLIGHT
BEGIN:DAYLIGHT
TZNAME:CEMT
TZOFFSETFROM:+0200
TZOFFSETTO:+0300
DTSTART:19450524T020000
RDATE:19470511T030000
END:DAYLIGHT
BEGIN:DAYLIGHT
TZNAME:CEST
TZOFFSETFROM:+0300
TZOFFSETTO:+0200
DTSTART:19450924T030000
RDATE:19470629T030000
END:DAYLIGHT
BEGIN:STANDARD
TZNAME:CET
TZOFFSETFROM:+0100
TZOFFSETTO:+0100
DTSTART:19460101T000000
RDATE:19800101T000000
END:STANDARD
BEGIN:STANDARD
TZNAME:CET
TZOFFSETFROM:+0200
TZOFFSETTO:+0100
DTSTART:19471005T030000
RRULE:FREQ=YEARLY;UNTIL=19491002T010000Z;BYMONTH=10;BYDAY=1SU
END:STANDARD
BEGIN:STANDARD
TZNAME:CET
TZOFFSETFROM:+0200
TZOFFSETTO:+0100
DTSTART:19800928T030000
RRULE:FREQ=YEARLY;UNTIL=19950924T010000Z;BYMONTH=9;BYDAY=-1SU
END:STANDARD
BEGIN:DAYLIGHT
TZNAME:CEST
TZOFFSETFROM:+0100
TZOFFSETTO:+0200
DTSTART:19810329T020000
RRULE:FREQ=YEARLY;BYMONTH=3;BYDAY=-1SU
END:DAYLIGHT
BEGIN:STANDARD
TZNAME:CET
TZOFFSETFROM:+0200
TZOFFSETTO:+0100
DTSTART:19961027T030000
RRULE:FREQ=YEARLY;BYMONTH=10;BYDAY=-1SU
END:STANDARD
END:VTIMEZONE
BEGIN:VEVENT
DTSTAMP:20260422T160059Z
DTSTART;TZID=Europe/Berlin:20260618T193000
DTEND;TZID=Europe/Berlin:20260618T213000
SUMMARY:21. Babylonischer Leseabend
CREATED:20260415T144635Z
LAST-MODIFIED:20260417T113226Z
DESCRIPTION:Der Beirat für Migration und Integration lädt herzlich ein.\n
 \n \n\nIn Frankenthal leben Menschen aus über 100 Nationen. Ihre Lebensa
 rt\, Kultur und Sprache bringen sie mit in unsere Stadt. \n\nDie Babylon
 ische Sprachverwirrung ist eine bekannte Redewendung und beinhaltet sinn
 bildlich die Sprachverwirrung\, die das Aufeinandertreffen unterschiedli
 cher Sprachen mit sich bringt. \n\nDer Leseabend verbindet die unterschi
 edlichen Sprachen und lädt dazu ein\, diese kennenzulernen und damit die
 se Sprachverwirrung etwas aufzulösen.\n\nLassen Sie sich überraschen von
  den diversen Sprachklängen und lernen Sie andere Kulturen durch die Spr
 ache kennen. \n\nFür die Bewirtung bedanken wir uns herzlich bei der ezi
 dischen Kulturgemeinde.\n\nEintritt frei. Ohne Voranmeldung.
LOCATION:Stadtbücherei
X-LOCATION-NAME:Stadtbücherei
X-STREET-ADDRESS:Welschgasse 11
X-POSTAL-CODE:67227
X-LOCALITY:Frankenthal
ORGANIZER;CN="Stadtbücherei":mailto:stadtbuecherei@frankenthal.de
X-ORGANIZER-NAME:Stadtbücherei
X-ORGANIZER-EMAIL:stadtbuecherei@frankenthal.de
X-ORGANIZER-TELEPHONE:06233 89 630
X-IONAS-CATEGORY:Stadtbücherei
CATEGORIES:Stadtbücherei,Babylonischer Leseabend,Beirat für Migration und
  Integration,Migration & Integration,Veranstaltung,Stadtbücherei
ATTACH;FMTTYPE=image/jpeg;X-COPYRIGHT=iStock:https://www.frankenthal.de/b
 ilder/soziales/migration-integration/beirat-migration-und-integration/bu
 echer-pflanzen-multikulturell-istock-1207872886.jpg?cid=2auv.vza1
UID:3bccf9fe-8e85-4cff-b602-43b63c38fa47
END:VEVENT
END:VCALENDAR
