BEGIN:VCALENDAR
PRODID:-//Ben Fortuna//iCal4j 1.0//EN
VERSION:2.0
CALSCALE:GREGORIAN
BEGIN:VTIMEZONE
TZID:Europe/Berlin
LAST-MODIFIED:20201010T011803Z
TZURL:http://tzurl.org/zoneinfo/Europe/Berlin
X-LIC-LOCATION:Europe/Berlin
X-PROLEPTIC-TZNAME:LMT
BEGIN:STANDARD
TZNAME:CET
TZOFFSETFROM:+005328
TZOFFSETTO:+0100
DTSTART:18930401T000000
END:STANDARD
BEGIN:DAYLIGHT
TZNAME:CEST
TZOFFSETFROM:+0100
TZOFFSETTO:+0200
DTSTART:19160430T230000
RDATE:19400401T020000
RDATE:19430329T020000
RDATE:19460414T020000
RDATE:19470406T030000
RDATE:19480418T020000
RDATE:19490410T020000
RDATE:19800406T020000
END:DAYLIGHT
BEGIN:STANDARD
TZNAME:CET
TZOFFSETFROM:+0200
TZOFFSETTO:+0100
DTSTART:19161001T010000
RDATE:19421102T030000
RDATE:19431004T030000
RDATE:19441002T030000
RDATE:19451118T030000
RDATE:19461007T030000
END:STANDARD
BEGIN:DAYLIGHT
TZNAME:CEST
TZOFFSETFROM:+0100
TZOFFSETTO:+0200
DTSTART:19170416T020000
RRULE:FREQ=YEARLY;UNTIL=19180415T010000Z;BYMONTH=4;BYDAY=3MO
END:DAYLIGHT
BEGIN:STANDARD
TZNAME:CET
TZOFFSETFROM:+0200
TZOFFSETTO:+0100
DTSTART:19170917T030000
RRULE:FREQ=YEARLY;UNTIL=19180916T010000Z;BYMONTH=9;BYDAY=3MO
END:STANDARD
BEGIN:DAYLIGHT
TZNAME:CEST
TZOFFSETFROM:+0100
TZOFFSETTO:+0200
DTSTART:19440403T020000
RRULE:FREQ=YEARLY;UNTIL=19450402T010000Z;BYMONTH=4;BYDAY=1MO
END:DAYLIGHT
BEGIN:DAYLIGHT
TZNAME:CEMT
TZOFFSETFROM:+0200
TZOFFSETTO:+0300
DTSTART:19450524T020000
RDATE:19470511T030000
END:DAYLIGHT
BEGIN:DAYLIGHT
TZNAME:CEST
TZOFFSETFROM:+0300
TZOFFSETTO:+0200
DTSTART:19450924T030000
RDATE:19470629T030000
END:DAYLIGHT
BEGIN:STANDARD
TZNAME:CET
TZOFFSETFROM:+0100
TZOFFSETTO:+0100
DTSTART:19460101T000000
RDATE:19800101T000000
END:STANDARD
BEGIN:STANDARD
TZNAME:CET
TZOFFSETFROM:+0200
TZOFFSETTO:+0100
DTSTART:19471005T030000
RRULE:FREQ=YEARLY;UNTIL=19491002T010000Z;BYMONTH=10;BYDAY=1SU
END:STANDARD
BEGIN:STANDARD
TZNAME:CET
TZOFFSETFROM:+0200
TZOFFSETTO:+0100
DTSTART:19800928T030000
RRULE:FREQ=YEARLY;UNTIL=19950924T010000Z;BYMONTH=9;BYDAY=-1SU
END:STANDARD
BEGIN:DAYLIGHT
TZNAME:CEST
TZOFFSETFROM:+0100
TZOFFSETTO:+0200
DTSTART:19810329T020000
RRULE:FREQ=YEARLY;BYMONTH=3;BYDAY=-1SU
END:DAYLIGHT
BEGIN:STANDARD
TZNAME:CET
TZOFFSETFROM:+0200
TZOFFSETTO:+0100
DTSTART:19961027T030000
RRULE:FREQ=YEARLY;BYMONTH=10;BYDAY=-1SU
END:STANDARD
END:VTIMEZONE
BEGIN:VEVENT
DTSTAMP:20260422T155705Z
DTSTART;TZID=Europe/Berlin:20260609T120000
DTEND;TZID=Europe/Berlin:20260609T130000
SUMMARY:ePA: Elektronische Patientenakte 
CREATED:20260415T133730Z
LAST-MODIFIED:20260420T103736Z
DESCRIPTION:Digitalbotschafterin Monika Kneiss erläutert Funktion und Vor
 teile der ePA und gibt Hinweise zu Datenschutz und Sicherheit.\n\n \n\nD
 ie elektronische Patientenakte ist eine digitale Sammlung aller wichtige
 n medizinischen Daten einer Patientin oder eines Patienten. Die Einführu
 ng der ePA bringt zahlreiche Vorteile mit sich: Ärzte können bei Bedarf 
 sofort auf die wichtigsten Daten zugreifen. Man kann selbst entscheiden\
 , welche Informationen man teilen möchte.\n\n \n\nEintritt frei. Mit Anm
 eldung.
LOCATION:Stadtbücherei
X-LOCATION-NAME:Stadtbücherei
X-STREET-ADDRESS:Welschgasse 11
X-POSTAL-CODE:67227
X-LOCALITY:Frankenthal
ORGANIZER;CN="Stadtbücherei":mailto:stadtbuecherei@frankenthal.de
X-ORGANIZER-NAME:Stadtbücherei
X-ORGANIZER-EMAIL:stadtbuecherei@frankenthal.de
X-ORGANIZER-TELEPHONE:06233 89 630
X-ORGANIZER-WEBSITE:http://frankenthal.de/stadtbuecherei
X-IONAS-CATEGORY:Stadtbücherei
CATEGORIES:Stadtbücherei,Digitale Patientenakte,Vortrag,Elektronische Pat
 ientenakte,Woche der Medienkompetenz
ATTACH;FMTTYPE=image/jpeg;X-COPYRIGHT=Canva:https://www.frankenthal.de/bi
 lder/gebaeude-orte-institutionen/stadtbuecherei/veranstaltungen/epa-elek
 tronische-krankenakte-25.jpg?cid=2eyv.x87s
UID:ea12bad2-6685-4dac-85a7-bf7a1b556840
END:VEVENT
END:VCALENDAR
