BEGIN:VCALENDAR
PRODID:-//Ben Fortuna//iCal4j 1.0//EN
VERSION:2.0
CALSCALE:GREGORIAN
BEGIN:VTIMEZONE
TZID:Europe/Berlin
LAST-MODIFIED:20201010T011803Z
TZURL:http://tzurl.org/zoneinfo/Europe/Berlin
X-LIC-LOCATION:Europe/Berlin
X-PROLEPTIC-TZNAME:LMT
BEGIN:STANDARD
TZNAME:CET
TZOFFSETFROM:+005328
TZOFFSETTO:+0100
DTSTART:18930401T000000
END:STANDARD
BEGIN:DAYLIGHT
TZNAME:CEST
TZOFFSETFROM:+0100
TZOFFSETTO:+0200
DTSTART:19160430T230000
RDATE:19400401T020000
RDATE:19430329T020000
RDATE:19460414T020000
RDATE:19470406T030000
RDATE:19480418T020000
RDATE:19490410T020000
RDATE:19800406T020000
END:DAYLIGHT
BEGIN:STANDARD
TZNAME:CET
TZOFFSETFROM:+0200
TZOFFSETTO:+0100
DTSTART:19161001T010000
RDATE:19421102T030000
RDATE:19431004T030000
RDATE:19441002T030000
RDATE:19451118T030000
RDATE:19461007T030000
END:STANDARD
BEGIN:DAYLIGHT
TZNAME:CEST
TZOFFSETFROM:+0100
TZOFFSETTO:+0200
DTSTART:19170416T020000
RRULE:FREQ=YEARLY;UNTIL=19180415T010000Z;BYMONTH=4;BYDAY=3MO
END:DAYLIGHT
BEGIN:STANDARD
TZNAME:CET
TZOFFSETFROM:+0200
TZOFFSETTO:+0100
DTSTART:19170917T030000
RRULE:FREQ=YEARLY;UNTIL=19180916T010000Z;BYMONTH=9;BYDAY=3MO
END:STANDARD
BEGIN:DAYLIGHT
TZNAME:CEST
TZOFFSETFROM:+0100
TZOFFSETTO:+0200
DTSTART:19440403T020000
RRULE:FREQ=YEARLY;UNTIL=19450402T010000Z;BYMONTH=4;BYDAY=1MO
END:DAYLIGHT
BEGIN:DAYLIGHT
TZNAME:CEMT
TZOFFSETFROM:+0200
TZOFFSETTO:+0300
DTSTART:19450524T020000
RDATE:19470511T030000
END:DAYLIGHT
BEGIN:DAYLIGHT
TZNAME:CEST
TZOFFSETFROM:+0300
TZOFFSETTO:+0200
DTSTART:19450924T030000
RDATE:19470629T030000
END:DAYLIGHT
BEGIN:STANDARD
TZNAME:CET
TZOFFSETFROM:+0100
TZOFFSETTO:+0100
DTSTART:19460101T000000
RDATE:19800101T000000
END:STANDARD
BEGIN:STANDARD
TZNAME:CET
TZOFFSETFROM:+0200
TZOFFSETTO:+0100
DTSTART:19471005T030000
RRULE:FREQ=YEARLY;UNTIL=19491002T010000Z;BYMONTH=10;BYDAY=1SU
END:STANDARD
BEGIN:STANDARD
TZNAME:CET
TZOFFSETFROM:+0200
TZOFFSETTO:+0100
DTSTART:19800928T030000
RRULE:FREQ=YEARLY;UNTIL=19950924T010000Z;BYMONTH=9;BYDAY=-1SU
END:STANDARD
BEGIN:DAYLIGHT
TZNAME:CEST
TZOFFSETFROM:+0100
TZOFFSETTO:+0200
DTSTART:19810329T020000
RRULE:FREQ=YEARLY;BYMONTH=3;BYDAY=-1SU
END:DAYLIGHT
BEGIN:STANDARD
TZNAME:CET
TZOFFSETFROM:+0200
TZOFFSETTO:+0100
DTSTART:19961027T030000
RRULE:FREQ=YEARLY;BYMONTH=10;BYDAY=-1SU
END:STANDARD
END:VTIMEZONE
BEGIN:VEVENT
DTSTAMP:20260422T154152Z
DTSTART;TZID=Europe/Berlin:20260505T190000
DTEND;TZID=Europe/Berlin:20260505T210000
SUMMARY:47 Pfalzkrimis – Buchvorstellung und Vortrag des Historikers Jörg
  Koch 
CREATED:20260417T121942Z
LAST-MODIFIED:20260420T102958Z
DESCRIPTION:Eine Frau die der Hexerei für schuldig befunden wurde\, ein M
 ord in einem Pflegeheim oder am eigenen Bruder: Im Spiel- und Lesecafé d
 er Stadtbücherei macht sich der Autor gemeinsam mit den Besucherinnen un
 d Besuchern auf eine spannende Reise durch historische Kriminalfälle aus
  seiner pfälzischen Heimat.\n\n\n\n\nDie bewegenden Schicksale und drama
 tischen Taten vom Mittelalter bis zur Neuzeit erzählen von Gewaltverbrec
 hen\, Justizirrtümern und menschlichen Tragödien. Es geht um aufgeklärte
  und unaufgeklärte Taten\, die u. a. in Nußdorf\, Kaiserslautern\, Speye
 r oder St. Marin stattgefunden haben. \n\n\n\n\nJörg Koch zeigt auch auf
 \, wie sich die Arbeit von Polizei und Justiz im Wandel der Zeit verände
 rt haben. Die im Buch enthaltenen historischen Dokumente und Fotografien
  zu den einzelnen Fällen runden das Ganze ab. \n\n \n\nDer Autor hat sic
 h mit seinen zahlreichen Publikationen zur Regionalgeschichte weit über 
 Rheinland-Pfalz hinaus einen Namen gemacht. \n\n \n\nEintritt frei. Ohne
  Anmeldung.
LOCATION:Stadtbücherei
X-LOCATION-NAME:Stadtbücherei
X-STREET-ADDRESS:Welschgasse 11
X-POSTAL-CODE:67227
X-LOCALITY:Frankenthal
ORGANIZER;CN="Stadtbücherei":mailto:stadtbuecherei@frankenthal.de
X-ORGANIZER-NAME:Stadtbücherei
X-ORGANIZER-EMAIL:stadtbuecherei@frankenthal.de
X-ORGANIZER-TELEPHONE:06233 89 630
X-ORGANIZER-WEBSITE:http://frankenthal.de/stadtbuecherei
X-IONAS-CATEGORY:Stadtbücherei
CATEGORIES:Stadtbücherei,Erwachsene,Lesung,Krimi,Pfalz
ATTACH;FMTTYPE=image/jpeg;X-COPYRIGHT=Sutton Verlag:https://www.frankenth
 al.de/bilder/gebaeude-orte-institutionen/stadtbuecherei/erwachsenenveran
 staltung/47-pfalzkrimis-sutton-verlag.jpg?cid=2mh7.119ym
UID:5e9424dc-d51d-458a-b7f8-f2629447e86f
END:VEVENT
END:VCALENDAR
